BEGIN:VCALENDAR
PRODID:-//AT Content Types//AT Event//EN
VERSION:1.0
BEGIN:VEVENT
DTSTART:20140310T080000Z
DTEND:20140310T093000Z
DCREATED:20131219T171432Z
UID:ATEvent-35d15097f5f34997aaab68f7fbaf60b5
SEQUENCE:0
LAST-MODIFIED:20131219T171432Z
SUMMARY:MTH-PDE
LOCATION:Lecture Room D
PRIORITY:3
TRANSP:0
END:VEVENT
END:VCALENDAR
