BEGIN:VCALENDAR
PRODID:-//AT Content Types//AT Event//EN
VERSION:1.0
BEGIN:VEVENT
DTSTART:20140411T090000Z
DTEND:20140411T103000Z
DCREATED:20131219T172932Z
UID:ATEvent-375b9a4b44ff44eabc58df63ffe1483b
SEQUENCE:0
LAST-MODIFIED:20131219T172932Z
SUMMARY:MTH-ERG
LOCATION:Lecture Room D
PRIORITY:3
TRANSP:0
END:VEVENT
END:VCALENDAR
