BEGIN:VCALENDAR
PRODID:-//AT Content Types//AT Event//EN
VERSION:1.0
BEGIN:VEVENT
DTSTART:20140328T100000Z
DTEND:20140328T113000Z
DCREATED:20131219T172931Z
UID:ATEvent-a7ec22a0c9e942178918f7a04aef18e4
SEQUENCE:0
LAST-MODIFIED:20131219T172931Z
SUMMARY:MTH-ERG
LOCATION:Lecture Room D
PRIORITY:3
TRANSP:0
END:VEVENT
END:VCALENDAR
