BEGIN:VCALENDAR
PRODID:-//AT Content Types//AT Event//EN
VERSION:2.0
METHOD:PUBLISH
BEGIN:VEVENT
DTSTAMP:20260420T170218Z
CREATED:20131218T133955Z
UID:ATEvent-4278ee07476a48fcb538735749c9f236
LAST-MODIFIED:20131218T133955Z
SUMMARY:CMP-MBF
DTSTART:20140129T100000Z
DTEND:20140129T113000Z
LOCATION:Lecture Room D
CONTACT:A. Nersesyan
URL:https://diploma-clear.ictp.it/courses/weekly-schedule/lecture-room-d/lecture.2013-12-18.9956816075
CLASS:PUBLIC
END:VEVENT
END:VCALENDAR
