BEGIN:VCALENDAR
PRODID:-//AT Content Types//AT Event//EN
VERSION:2.0
METHOD:PUBLISH
BEGIN:VEVENT
DTSTAMP:20260421T025058Z
CREATED:20131218T133955Z
UID:ATEvent-d9b5427934174d18bc7b81693a612bae
LAST-MODIFIED:20131218T133955Z
SUMMARY:CMP-MBF
DTSTART:20140127T100000Z
DTEND:20140127T113000Z
LOCATION:Lecture Room D
CONTACT:A. Nersesyan
URL:https://diploma-clear.ictp.it/courses/weekly-schedule/lecture-room-d/lecture.2013-12-18.9955555907
CLASS:PUBLIC
END:VEVENT
END:VCALENDAR
