BEGIN:VCALENDAR
PRODID:-//AT Content Types//AT Event//EN
VERSION:1.0
BEGIN:VEVENT
DTSTART:20140124T100000Z
DTEND:20140124T113000Z
DCREATED:20131218T133955Z
UID:ATEvent-1eb58849b296454d9a89d037afc91f92
SEQUENCE:0
LAST-MODIFIED:20131218T133955Z
SUMMARY:CMP-MBF
LOCATION:Lecture Room D
PRIORITY:3
TRANSP:0
END:VEVENT
END:VCALENDAR
