BEGIN:VCALENDAR
PRODID:-//AT Content Types//AT Event//EN
VERSION:2.0
METHOD:PUBLISH
BEGIN:VEVENT
DTSTAMP:20260421T134112Z
CREATED:20131218T134428Z
UID:ATEvent-602e772e5aa54f79b1efa1283505bb0c
LAST-MODIFIED:20140204T150302Z
SUMMARY:CMP-ASM
DTSTART:20140218T130000Z
DTEND:20140218T143000Z
LOCATION:Lecture Room D
CONTACT:A. Silva
URL:https://diploma-clear.ictp.it/courses/weekly-schedule/lecture-room-d/lecture.2013-12-18.2689231754
CLASS:PUBLIC
END:VEVENT
END:VCALENDAR
