BEGIN:VCALENDAR
PRODID:-//AT Content Types//AT Event//EN
VERSION:2.0
METHOD:PUBLISH
BEGIN:VEVENT
DTSTAMP:20260423T003223Z
CREATED:20131218T134427Z
UID:ATEvent-de41b912b3954e7f81f999c33801e28b
LAST-MODIFIED:20131218T134427Z
SUMMARY:CMP-ASM
DTSTART:20140121T080000Z
DTEND:20140121T093000Z
LOCATION:Lecture Room D
CONTACT:A. Silva
URL:https://diploma-clear.ictp.it/courses/weekly-schedule/lecture-room-d/lecture.2013-12-18.2678734682
CLASS:PUBLIC
END:VEVENT
END:VCALENDAR
