BEGIN:VCALENDAR
PRODID:-//AT Content Types//AT Event//EN
VERSION:1.0
BEGIN:VEVENT
DTSTART:20131015T070000Z
DTEND:20131015T083000Z
DCREATED:20130814T091959Z
UID:ATEvent-14853c6f01324d72aac477a0d6c6e77f
SEQUENCE:0
LAST-MODIFIED:20130814T091959Z
SUMMARY:CMP-EPS
LOCATION:Lecture Room D
PRIORITY:3
TRANSP:0
END:VEVENT
END:VCALENDAR
