BEGIN:VCALENDAR
PRODID:-//AT Content Types//AT Event//EN
VERSION:1.0
BEGIN:VEVENT
DTSTART:20131003T070000Z
DTEND:20131003T083000Z
DCREATED:20130814T091958Z
UID:ATEvent-879d2cc5c9ef4a8bad5c4f7cecd1ff9d
SEQUENCE:0
LAST-MODIFIED:20130814T091958Z
SUMMARY:CMP-EPS
LOCATION:Lecture Room D
PRIORITY:3
TRANSP:0
END:VEVENT
END:VCALENDAR
