BEGIN:VCALENDAR
PRODID:-//AT Content Types//AT Event//EN
VERSION:1.0
BEGIN:VEVENT
DTSTART:20130930T070000Z
DTEND:20130930T083000Z
DCREATED:20130814T091958Z
UID:ATEvent-c2b539339a6e41fc8b076c46bb44fce3
SEQUENCE:0
LAST-MODIFIED:20130814T091958Z
SUMMARY:CMP-EPS
LOCATION:Lecture Room D
PRIORITY:3
TRANSP:0
END:VEVENT
END:VCALENDAR
