BEGIN:VCALENDAR
PRODID:-//AT Content Types//AT Event//EN
VERSION:2.0
METHOD:PUBLISH
BEGIN:VEVENT
DTSTAMP:20260423T035636Z
CREATED:20130814T090040Z
UID:ATEvent-319b22856a8c4c1cbf293ce1ff98b319
LAST-MODIFIED:20130814T090040Z
SUMMARY:CMP-MT
DTSTART:20130919T070000Z
DTEND:20130919T083000Z
LOCATION:Lecture Room D
CONTACT:S. Scandolo
URL:https://diploma-clear.ictp.it/courses/weekly-schedule/lecture-room-d/lecture.2013-08-14.8408069830
CLASS:PUBLIC
END:VEVENT
END:VCALENDAR
