BEGIN:VCALENDAR
PRODID:-//AT Content Types//AT Event//EN
VERSION:1.0
BEGIN:VEVENT
DTSTART:20130917T070000Z
DTEND:20130917T083000Z
DCREATED:20130814T090040Z
UID:ATEvent-b2d71dde0ce543daa0201dbdda48e020
SEQUENCE:0
LAST-MODIFIED:20130814T090040Z
SUMMARY:CMP-MT
LOCATION:Lecture Room D
PRIORITY:3
TRANSP:0
END:VEVENT
END:VCALENDAR
