BEGIN:VCALENDAR
PRODID:-//AT Content Types//AT Event//EN
VERSION:1.0
BEGIN:VEVENT
DTSTART:20130913T070000Z
DTEND:20130913T083000Z
DCREATED:20130814T090040Z
UID:ATEvent-f9975a5caae943ecbb3a1d03f7838ac8
SEQUENCE:0
LAST-MODIFIED:20130814T090040Z
SUMMARY:CMP-MT
LOCATION:Lecture Room D
PRIORITY:3
TRANSP:0
END:VEVENT
END:VCALENDAR
