BEGIN:VCALENDAR
PRODID:-//AT Content Types//AT Event//EN
VERSION:1.0
BEGIN:VEVENT
DTSTART:20131128T100000Z
DTEND:20131128T113000Z
DCREATED:20130814T091635Z
UID:ATEvent-93f0207d7ce444ab90996ec622104b8b
SEQUENCE:0
LAST-MODIFIED:20130814T091635Z
SUMMARY:CMP-AQM
LOCATION:Lecture Room D
PRIORITY:3
TRANSP:0
END:VEVENT
END:VCALENDAR
