BEGIN:VCALENDAR
PRODID:-//AT Content Types//AT Event//EN
VERSION:2.0
METHOD:PUBLISH
BEGIN:VEVENT
DTSTAMP:20260421T213454Z
CREATED:20130814T091634Z
UID:ATEvent-f3f9c2383b1742369ceb2d2e4476c66d
LAST-MODIFIED:20131108T092648Z
SUMMARY:CMP-AQM
DTSTART:20131113T150000Z
DTEND:20131113T163000Z
LOCATION:Lecture Room D
CONTACT:R. Gebauer
URL:https://diploma-clear.ictp.it/courses/weekly-schedule/lecture-room-d/lecture.2013-08-14.7941299661
CLASS:PUBLIC
END:VEVENT
END:VCALENDAR
