BEGIN:VCALENDAR
PRODID:-//AT Content Types//AT Event//EN
VERSION:1.0
BEGIN:VEVENT
DTSTART:20131129T130000Z
DTEND:20131129T143000Z
DCREATED:20130814T094502Z
UID:ATEvent-683f93c32cb942b4aa386c7d47a01e28
SEQUENCE:0
LAST-MODIFIED:20130814T094502Z
SUMMARY:CMP-ST I
LOCATION:Lecture Room D
PRIORITY:3
TRANSP:0
END:VEVENT
END:VCALENDAR
