BEGIN:VCALENDAR
PRODID:-//AT Content Types//AT Event//EN
VERSION:1.0
BEGIN:VEVENT
DTSTART:20131108T130000Z
DTEND:20131108T143000Z
DCREATED:20130814T094502Z
UID:ATEvent-fb6b03c099e74df38f8fdccf9c51ed35
SEQUENCE:0
LAST-MODIFIED:20130814T094502Z
SUMMARY:CMP-ST I
LOCATION:Lecture Room D
PRIORITY:3
TRANSP:0
END:VEVENT
END:VCALENDAR
