BEGIN:VCALENDAR
PRODID:-//AT Content Types//AT Event//EN
VERSION:1.0
BEGIN:VEVENT
DTSTART:20131018T120000Z
DTEND:20131018T133000Z
DCREATED:20130814T094501Z
UID:ATEvent-abc41148ab324d6ab19e7661a0b947b2
SEQUENCE:0
LAST-MODIFIED:20130814T094501Z
SUMMARY:CMP-ST I
LOCATION:Lecture Room D
PRIORITY:3
TRANSP:0
END:VEVENT
END:VCALENDAR
