BEGIN:VCALENDAR
PRODID:-//AT Content Types//AT Event//EN
VERSION:2.0
METHOD:PUBLISH
BEGIN:VEVENT
DTSTAMP:20260425T133246Z
CREATED:20130814T094501Z
UID:ATEvent-a47139b936bc445bb01b1eb7fec850e5
LAST-MODIFIED:20130814T094501Z
SUMMARY:CMP-ST I
DTSTART:20131004T120000Z
DTEND:20131004T133000Z
LOCATION:Lecture Room D
CONTACT:N. Seriani\, Y. Crespo
URL:https://diploma-clear.ictp.it/courses/weekly-schedule/lecture-room-d/lecture.2013-08-14.5011979117
CLASS:PUBLIC
END:VEVENT
END:VCALENDAR
