BEGIN:VCALENDAR
PRODID:-//AT Content Types//AT Event//EN
VERSION:1.0
BEGIN:VEVENT
DTSTART:20131017T120000Z
DTEND:20131017T133000Z
DCREATED:20130814T090956Z
UID:ATEvent-8a0e33783b4d44fd848ecff72c715ebc
SEQUENCE:0
LAST-MODIFIED:20131015T101306Z
SUMMARY:CMP-AQM
LOCATION:Lecture Room D
PRIORITY:3
TRANSP:0
END:VEVENT
END:VCALENDAR
