BEGIN:VCALENDAR
PRODID:-//AT Content Types//AT Event//EN
VERSION:2.0
METHOD:PUBLISH
BEGIN:VEVENT
DTSTAMP:20260421T213502Z
CREATED:20130814T090956Z
UID:ATEvent-5fa0ec246a3d4d6090ff2236699a0c59
LAST-MODIFIED:20130814T090956Z
SUMMARY:CMP-AQM
DTSTART:20131009T120000Z
DTEND:20131009T133000Z
LOCATION:Lecture Room D
CONTACT:G. Santoro
URL:https://diploma-clear.ictp.it/courses/weekly-schedule/lecture-room-d/lecture.2013-08-14.3962136953
CLASS:PUBLIC
END:VEVENT
END:VCALENDAR
