BEGIN:VCALENDAR
PRODID:-//AT Content Types//AT Event//EN
VERSION:1.0
BEGIN:VEVENT
DTSTART:20130919T120000Z
DTEND:20130919T133000Z
DCREATED:20130814T090954Z
UID:ATEvent-9ef7fdeb152b4d178223a87a5ebf9754
SEQUENCE:0
LAST-MODIFIED:20130814T090954Z
SUMMARY:CMP-AQM
LOCATION:Lecture Room D
PRIORITY:3
TRANSP:0
END:VEVENT
END:VCALENDAR
