BEGIN:VCALENDAR
PRODID:-//AT Content Types//AT Event//EN
VERSION:2.0
METHOD:PUBLISH
BEGIN:VEVENT
DTSTAMP:20260422T063535Z
CREATED:20130814T090953Z
UID:ATEvent-97af36de03f94e45828fa6aae59dc329
LAST-MODIFIED:20130814T090954Z
SUMMARY:CMP-AQM
DTSTART:20130910T120000Z
DTEND:20130910T133000Z
LOCATION:Lecture Room D
CONTACT:G. Santoro
URL:https://diploma-clear.ictp.it/courses/weekly-schedule/lecture-room-d/lecture.2013-08-14.3938482073
CLASS:PUBLIC
END:VEVENT
END:VCALENDAR
