BEGIN:VCALENDAR
PRODID:-//AT Content Types//AT Event//EN
VERSION:1.0
BEGIN:VEVENT
DTSTART:20131205T130000Z
DTEND:20131205T143000Z
DCREATED:20130814T094300Z
UID:ATEvent-808f8516739944ea8622920ddda0fbb8
SEQUENCE:0
LAST-MODIFIED:20130814T094300Z
SUMMARY:CMP-SM
LOCATION:Lecture Room D
PRIORITY:3
TRANSP:0
END:VEVENT
END:VCALENDAR
