BEGIN:VCALENDAR
PRODID:-//AT Content Types//AT Event//EN
VERSION:2.0
METHOD:PUBLISH
BEGIN:VEVENT
DTSTAMP:20260421T230004Z
CREATED:20130814T094300Z
UID:ATEvent-80d9b22649a44c379bdd2dadc6c9b5a5
LAST-MODIFIED:20130814T094300Z
SUMMARY:CMP-SM
DTSTART:20131128T130000Z
DTEND:20131128T143000Z
LOCATION:Lecture Room D
CONTACT:A. Scardicchio
URL:https://diploma-clear.ictp.it/courses/weekly-schedule/lecture-room-d/lecture.2013-08-14.3803738608
CLASS:PUBLIC
END:VEVENT
END:VCALENDAR
