BEGIN:VCALENDAR
PRODID:-//AT Content Types//AT Event//EN
VERSION:2.0
METHOD:PUBLISH
BEGIN:VEVENT
DTSTAMP:20260421T213507Z
CREATED:20130814T094259Z
UID:ATEvent-db20f0074926448dbe6435ba8fa1e9b7
LAST-MODIFIED:20130814T094259Z
SUMMARY:CMP-SM
DTSTART:20131114T130000Z
DTEND:20131114T143000Z
LOCATION:Lecture Room D
CONTACT:A. Scardicchio
URL:https://diploma-clear.ictp.it/courses/weekly-schedule/lecture-room-d/lecture.2013-08-14.3794423620
CLASS:PUBLIC
END:VEVENT
END:VCALENDAR
