BEGIN:VCALENDAR
PRODID:-//AT Content Types//AT Event//EN
VERSION:2.0
METHOD:PUBLISH
BEGIN:VEVENT
DTSTAMP:20260420T222826Z
CREATED:20130814T094259Z
UID:ATEvent-4e26b061b52f4d029775f15af5cc6e5d
LAST-MODIFIED:20130814T094259Z
SUMMARY:CMP-SM
DTSTART:20131113T130000Z
DTEND:20131113T143000Z
LOCATION:Lecture Room D
CONTACT:A. Scardicchio
URL:https://diploma-clear.ictp.it/courses/weekly-schedule/lecture-room-d/lecture.2013-08-14.3792749026
CLASS:PUBLIC
END:VEVENT
END:VCALENDAR
