BEGIN:VCALENDAR
PRODID:-//AT Content Types//AT Event//EN
VERSION:2.0
METHOD:PUBLISH
BEGIN:VEVENT
DTSTAMP:20260419T225634Z
CREATED:20130814T094259Z
UID:ATEvent-3c05501b9f1542bf9fff94cceeb8f31a
LAST-MODIFIED:20130814T094259Z
SUMMARY:CMP-SM
DTSTART:20131111T130000Z
DTEND:20131111T143000Z
LOCATION:Lecture Room D
CONTACT:A. Scardicchio
URL:https://diploma-clear.ictp.it/courses/weekly-schedule/lecture-room-d/lecture.2013-08-14.3791090283
CLASS:PUBLIC
END:VEVENT
END:VCALENDAR
