BEGIN:VCALENDAR
PRODID:-//AT Content Types//AT Event//EN
VERSION:2.0
METHOD:PUBLISH
BEGIN:VEVENT
DTSTAMP:20260421T105420Z
CREATED:20130814T092001Z
UID:ATEvent-f67b560992a84a0dbbca8ff6064f237b
LAST-MODIFIED:20130814T092001Z
SUMMARY:CMP-EPS
DTSTART:20131112T080000Z
DTEND:20131112T093000Z
LOCATION:Lecture Room D
CONTACT:N. Binggeli
URL:https://diploma-clear.ictp.it/courses/weekly-schedule/lecture-room-d/lecture.2013-08-14.0014708495
CLASS:PUBLIC
END:VEVENT
END:VCALENDAR
