BEGIN:VCALENDAR
PRODID:-//AT Content Types//AT Event//EN
VERSION:1.0
BEGIN:VEVENT
DTSTART:20120307T100000Z
DTEND:20120307T113000Z
DCREATED:20111219T171531Z
UID:ATEvent-1a84f7a038cd6830f1832667b467123d
SEQUENCE:0
LAST-MODIFIED:20120223T090629Z
SUMMARY:MTH-AA
LOCATION:Lecture Room D
PRIORITY:3
TRANSP:0
END:VEVENT
END:VCALENDAR
