BEGIN:VCALENDAR
PRODID:-//AT Content Types//AT Event//EN
VERSION:1.0
BEGIN:VEVENT
DTSTART:20120208T150000Z
DTEND:20120208T163000Z
DCREATED:20111219T171526Z
UID:ATEvent-9f74904bfd00cbdabfa0ef2f7fb45e14
SEQUENCE:0
LAST-MODIFIED:20111219T171526Z
SUMMARY:MTH-AA
LOCATION:Lecture Room D
PRIORITY:3
TRANSP:0
END:VEVENT
END:VCALENDAR
