BEGIN:VCALENDAR
PRODID:-//AT Content Types//AT Event//EN
VERSION:2.0
METHOD:PUBLISH
BEGIN:VEVENT
DTSTAMP:20260425T230617Z
CREATED:20111219T172526Z
UID:ATEvent-0b367930d649785363dd15a59e5f497d
LAST-MODIFIED:20111219T172527Z
SUMMARY:MTH-ALT
DTSTART:20120213T080000Z
DTEND:20120213T093000Z
LOCATION:Lecture Room D
CONTACT:D. Repovs
URL:https://diploma-clear.ictp.it/courses/weekly-schedule/lecture-room-d/lecture.2011-12-19.5240588839
CLASS:PUBLIC
END:VEVENT
END:VCALENDAR
