BEGIN:VCALENDAR
PRODID:-//AT Content Types//AT Event//EN
VERSION:2.0
METHOD:PUBLISH
BEGIN:VEVENT
DTSTAMP:20260420T190127Z
CREATED:20111219T172506Z
UID:ATEvent-68c5361dd15694f9b7bdaa8a76dd4292
LAST-MODIFIED:20111219T172506Z
SUMMARY:MTH-AG
DTSTART:20120413T140000Z
DTEND:20120413T153000Z
LOCATION:Lecture Room D
CONTACT:V. Beorchia
URL:https://diploma-clear.ictp.it/courses/weekly-schedule/lecture-room-d/lecture.2011-12-19.5057692750
CLASS:PUBLIC
END:VEVENT
END:VCALENDAR
