BEGIN:VCALENDAR
PRODID:-//AT Content Types//AT Event//EN
VERSION:2.0
METHOD:PUBLISH
BEGIN:VEVENT
DTSTAMP:20260420T190136Z
CREATED:20111219T171830Z
UID:ATEvent-4ff86c9955766dab0a06930b6dbb1afb
LAST-MODIFIED:20111219T171830Z
SUMMARY:MTH-PDE
DTSTART:20120427T070000Z
DTEND:20120427T083000Z
LOCATION:Lecture Room D
CONTACT:G. Bellettini
URL:https://diploma-clear.ictp.it/courses/weekly-schedule/lecture-room-d/lecture.2011-12-19.1104823103
CLASS:PUBLIC
END:VEVENT
END:VCALENDAR
