BEGIN:VCALENDAR
PRODID:-//AT Content Types//AT Event//EN
VERSION:2.0
METHOD:PUBLISH
BEGIN:VEVENT
DTSTAMP:20260425T104603Z
CREATED:20111219T171822Z
UID:ATEvent-33bcfa836b29902d840c0517ecb948bf
LAST-MODIFIED:20111219T171822Z
SUMMARY:MTH-PDE
DTSTART:20120316T080000Z
DTEND:20120316T093000Z
LOCATION:Lecture Room D
CONTACT:G. Bellettini
URL:https://diploma-clear.ictp.it/courses/weekly-schedule/lecture-room-d/lecture.2011-12-19.1024918196
CLASS:PUBLIC
END:VEVENT
END:VCALENDAR
