BEGIN:VCALENDAR
PRODID:-//AT Content Types//AT Event//EN
VERSION:2.0
METHOD:PUBLISH
BEGIN:VEVENT
DTSTAMP:20260420T204115Z
CREATED:20111219T171821Z
UID:ATEvent-9e44ac6de5ce4ea339a15c193cdac911
LAST-MODIFIED:20111219T171821Z
SUMMARY:MTH-PDE
DTSTART:20120308T080000Z
DTEND:20120308T093000Z
LOCATION:Lecture Room D
CONTACT:G. Bellettini
URL:https://diploma-clear.ictp.it/courses/weekly-schedule/lecture-room-d/lecture.2011-12-19.1011757779
CLASS:PUBLIC
END:VEVENT
END:VCALENDAR
