BEGIN:VCALENDAR
PRODID:-//AT Content Types//AT Event//EN
VERSION:2.0
METHOD:PUBLISH
BEGIN:VEVENT
DTSTAMP:20260420T204124Z
CREATED:20111219T171821Z
UID:ATEvent-f8907a58f9bc01bd53a245499f4b50eb
LAST-MODIFIED:20111220T091527Z
SUMMARY:MTH-PDE
DTSTART:20120307T080000Z
DTEND:20120307T093000Z
LOCATION:Lecture Room D
CONTACT:G. Bellettini
URL:https://diploma-clear.ictp.it/courses/weekly-schedule/lecture-room-d/lecture.2011-12-19.1008471328
CLASS:PUBLIC
END:VEVENT
END:VCALENDAR
