BEGIN:VCALENDAR
PRODID:-//AT Content Types//AT Event//EN
VERSION:1.0
BEGIN:VEVENT
DTSTART:20120209T080000Z
DTEND:20120209T093000Z
DCREATED:20111219T171817Z
UID:ATEvent-28a6d17d124a9fd714ad49ba43141593
SEQUENCE:0
LAST-MODIFIED:20111219T171817Z
SUMMARY:MTH-PDE
LOCATION:Lecture Room D
PRIORITY:3
TRANSP:0
END:VEVENT
END:VCALENDAR
