BEGIN:VCALENDAR
PRODID:-//AT Content Types//AT Event//EN
VERSION:1.0
BEGIN:VEVENT
DTSTART:20120214T130000Z
DTEND:20120214T143000Z
DCREATED:20111216T152216Z
UID:ATEvent-07c2b6a8163c2831cff311e27b2b862d
SEQUENCE:0
LAST-MODIFIED:20111216T152217Z
SUMMARY:CMP-ASM
LOCATION:Lecture Room D
PRIORITY:3
TRANSP:0
END:VEVENT
END:VCALENDAR
