BEGIN:VCALENDAR
PRODID:-//AT Content Types//AT Event//EN
VERSION:2.0
METHOD:PUBLISH
BEGIN:VEVENT
DTSTAMP:20260421T225949Z
CREATED:20111216T152213Z
UID:ATEvent-768141e255e24551a2b460b3d304bdbf
LAST-MODIFIED:20111216T152213Z
SUMMARY:CMP-ASM
DTSTART:20120123T130000Z
DTEND:20120123T143000Z
LOCATION:Lecture Room D
CONTACT:A. Silva
URL:https://diploma-clear.ictp.it/courses/weekly-schedule/lecture-room-d/lecture.2011-12-16.9327536206
CLASS:PUBLIC
END:VEVENT
END:VCALENDAR
