BEGIN:VCALENDAR
PRODID:-//AT Content Types//AT Event//EN
VERSION:2.0
METHOD:PUBLISH
BEGIN:VEVENT
DTSTAMP:20260422T195823Z
CREATED:20111216T151834Z
UID:ATEvent-3c4dc08d745fedda867fcf452fa76b31
LAST-MODIFIED:20111216T151834Z
SUMMARY:CMP-ST
DTSTART:20120420T120000Z
DTEND:20120420T133000Z
LOCATION:Lecture Room D
URL:https://diploma-clear.ictp.it/courses/weekly-schedule/lecture-room-d/lecture.2011-12-16.7140545520
CLASS:PUBLIC
END:VEVENT
END:VCALENDAR
