BEGIN:VCALENDAR
PRODID:-//AT Content Types//AT Event//EN
VERSION:1.0
BEGIN:VEVENT
DTSTART:20120302T130000Z
DTEND:20120302T143000Z
DCREATED:20111216T151831Z
UID:ATEvent-049df5166d5fe7bdf9a97022d341ad40
SEQUENCE:0
LAST-MODIFIED:20111216T151831Z
SUMMARY:CMP-ST
LOCATION:Lecture Room D
PRIORITY:3
TRANSP:0
END:VEVENT
END:VCALENDAR
