BEGIN:VCALENDAR
PRODID:-//AT Content Types//AT Event//EN
VERSION:2.0
METHOD:PUBLISH
BEGIN:VEVENT
DTSTAMP:20260421T105233Z
CREATED:20111216T151639Z
UID:ATEvent-2cf887ec0a811bc750dcb01b2979d459
LAST-MODIFIED:20111216T151640Z
SUMMARY:CMP-ES
DTSTART:20120417T090000Z
DTEND:20120417T103000Z
LOCATION:Lecture Room D
CONTACT:S. De Gironcoli
URL:https://diploma-clear.ictp.it/courses/weekly-schedule/lecture-room-d/lecture.2011-12-16.5996931084
CLASS:PUBLIC
END:VEVENT
END:VCALENDAR
