BEGIN:VCALENDAR
PRODID:-//AT Content Types//AT Event//EN
VERSION:1.0
BEGIN:VEVENT
DTSTART:20111028T090000Z
DTEND:20111028T103000Z
DCREATED:20110830T124730Z
UID:ATEvent-81b476f137ac5a5c9697d356fff64b63
SEQUENCE:0
LAST-MODIFIED:20110830T124748Z
SUMMARY:CMP-AQM
LOCATION:Lecture Room D
PRIORITY:3
TRANSP:0
END:VEVENT
END:VCALENDAR
