BEGIN:VCALENDAR
PRODID:-//AT Content Types//AT Event//EN
VERSION:1.0
BEGIN:VEVENT
DTSTART:20081124T130000Z
DTEND:20081124T143000Z
DCREATED:20081014T132557Z
UID:ATEvent-02846e830620d158dd3984fa2f0b3437
SEQUENCE:0
LAST-MODIFIED:20081014T132558Z
SUMMARY:MTH-SM
LOCATION:Lecture Room D
PRIORITY:3
TRANSP:0
END:VEVENT
END:VCALENDAR
