BEGIN:VCALENDAR
PRODID:-//AT Content Types//AT Event//EN
VERSION:1.0
BEGIN:VEVENT
DTSTART:20081030T130000Z
DTEND:20081030T143000Z
DCREATED:20081014T132552Z
UID:ATEvent-63613edbe2c33ca7d660cdd5f9e347fd
SEQUENCE:0
LAST-MODIFIED:20081014T132552Z
SUMMARY:MTH-SM
LOCATION:Lecture Room D
PRIORITY:3
TRANSP:0
END:VEVENT
END:VCALENDAR
