BEGIN:VCALENDAR
PRODID:-//AT Content Types//AT Event//EN
VERSION:1.0
BEGIN:VEVENT
DTSTART:20081117T080000Z
DTEND:20081117T093000Z
DCREATED:20081014T134052Z
UID:ATEvent-7fe1504d2f7bd393601637de1fd1285e
SEQUENCE:0
LAST-MODIFIED:20081014T140105Z
SUMMARY:MTH-RA
LOCATION:Lecture Room D
PRIORITY:3
TRANSP:0
END:VEVENT
END:VCALENDAR
