BEGIN:VCALENDAR
PRODID:-//AT Content Types//AT Event//EN
VERSION:2.0
METHOD:PUBLISH
BEGIN:VEVENT
DTSTAMP:20260423T042824Z
CREATED:20081014T134048Z
UID:ATEvent-47f5b47c583efef9875b598b176e9957
LAST-MODIFIED:20081014T135109Z
SUMMARY:MTH-RA
DTSTART:20081028T080000Z
DTEND:20081028T093000Z
LOCATION:Lecture Room D
CONTACT:Gianni Dal Maso
URL:https://diploma-clear.ictp.it/courses/weekly-schedule/lecture-room-d/lecture.2008-10-14.6489439813
CLASS:PUBLIC
END:VEVENT
END:VCALENDAR
