BEGIN:VCALENDAR
PRODID:-//AT Content Types//AT Event//EN
VERSION:1.0
BEGIN:VEVENT
DTSTART:20081021T090000Z
DTEND:20081021T103000Z
DCREATED:20081014T134047Z
UID:ATEvent-3084db01fd4259f7249ce1d17653d782
SEQUENCE:0
LAST-MODIFIED:20081014T134913Z
SUMMARY:MTH-RA
LOCATION:Lecture Room D
PRIORITY:3
TRANSP:0
END:VEVENT
END:VCALENDAR
